BEGIN:VCALENDAR
VERSION:2.0
PRODID:-//Great Minds in STEM - ECPv6.15.20//NONSGML v1.0//EN
CALSCALE:GREGORIAN
METHOD:PUBLISH
X-WR-CALNAME:Great Minds in STEM
X-ORIGINAL-URL:https://greatmindsinstem.org
X-WR-CALDESC:Events for Great Minds in STEM
REFRESH-INTERVAL;VALUE=DURATION:PT1H
X-Robots-Tag:noindex
X-PUBLISHED-TTL:PT1H
BEGIN:VTIMEZONE
TZID:America/Los_Angeles
BEGIN:DAYLIGHT
TZOFFSETFROM:-0800
TZOFFSETTO:-0700
TZNAME:PDT
DTSTART:20220313T100000
END:DAYLIGHT
BEGIN:STANDARD
TZOFFSETFROM:-0700
TZOFFSETTO:-0800
TZNAME:PST
DTSTART:20221106T090000
END:STANDARD
BEGIN:DAYLIGHT
TZOFFSETFROM:-0800
TZOFFSETTO:-0700
TZNAME:PDT
DTSTART:20230312T100000
END:DAYLIGHT
BEGIN:STANDARD
TZOFFSETFROM:-0700
TZOFFSETTO:-0800
TZNAME:PST
DTSTART:20231105T090000
END:STANDARD
BEGIN:DAYLIGHT
TZOFFSETFROM:-0800
TZOFFSETTO:-0700
TZNAME:PDT
DTSTART:20240310T100000
END:DAYLIGHT
BEGIN:STANDARD
TZOFFSETFROM:-0700
TZOFFSETTO:-0800
TZNAME:PST
DTSTART:20241103T090000
END:STANDARD
END:VTIMEZONE
BEGIN:VEVENT
DTSTART;TZID=America/Los_Angeles:20231011T080000
DTEND;TZID=America/Los_Angeles:20231015T170000
DTSTAMP:20260424T132603
CREATED:20230713T202403Z
LAST-MODIFIED:20230713T202403Z
UID:5389-1697011200-1697389200@greatmindsinstem.org
SUMMARY:35th GMiS Conference
DESCRIPTION:We are very excited to be back in-person at the Pasadena Convention Center! Be on the lookout for more information!
URL:https://greatmindsinstem.org/event/35th-gmis-conference/
LOCATION:Pasadena Convention Center
END:VEVENT
BEGIN:VEVENT
DTSTART;TZID=America/Los_Angeles:20230714T090000
DTEND;TZID=America/Los_Angeles:20230714T100000
DTSTAMP:20260424T132603
CREATED:20230713T202631Z
LAST-MODIFIED:20230713T220613Z
UID:5392-1689325200-1689328800@greatmindsinstem.org
SUMMARY:HENAAC Selection Committee Kick-Off
DESCRIPTION:It’s time to begin the selection process for the HENAAC Award winners!
URL:https://greatmindsinstem.org/event/henaac-selection-committee-kick-off/
END:VEVENT
END:VCALENDAR